BEGIN:VCALENDAR
VERSION:2.0
PRODID:-//Institut für Yoga und Gesundheit - ECPv6.2.8.2//NONSGML v1.0//EN
CALSCALE:GREGORIAN
METHOD:PUBLISH
X-WR-CALNAME:Institut für Yoga und Gesundheit
X-ORIGINAL-URL:https://yogalehrer-ausbildung-koeln.de
X-WR-CALDESC:Veranstaltungen für Institut für Yoga und Gesundheit
REFRESH-INTERVAL;VALUE=DURATION:PT1H
X-Robots-Tag:noindex
X-PUBLISHED-TTL:PT1H
BEGIN:VTIMEZONE
TZID:Europe/Berlin
BEGIN:DAYLIGHT
TZOFFSETFROM:+0100
TZOFFSETTO:+0200
TZNAME:CEST
DTSTART:20240331T010000
END:DAYLIGHT
BEGIN:STANDARD
TZOFFSETFROM:+0200
TZOFFSETTO:+0100
TZNAME:CET
DTSTART:20241027T010000
END:STANDARD
END:VTIMEZONE
BEGIN:VEVENT
DTSTART;TZID=Europe/Berlin:20241102T140000
DTEND;TZID=Europe/Berlin:20241110T140000
DTSTAMP:20260424T173644
CREATED:20231201T132819Z
LAST-MODIFIED:20231207T105655Z
UID:2567-1730556000-1731247200@yogalehrer-ausbildung-koeln.de
SUMMARY:Yogalehrer In 100 Kompakt Ausbildung / Kompaktausbildung / Retreat Experience im Seminarhaus am Weltende / zwischen Köln und Frankfurt / Nov 2024
DESCRIPTION:9 Tage Kompaktausbildung / Übernachtung kostenfrei / ab 1490.- € \n\n\n\n\n\n \n\n\n\n\n\n\n\n \n\n\n\nMehr Infos über den Inhalt\n\n\n\n\n  \n\n\n\n\nAnmelden
URL:https://yogalehrer-ausbildung-koeln.de/kurs/yogalehrer-in-100-kompakt-ausbildung-kompaktausbildung-retreat-experience-im-seminarhaus-am-weltende-zwischen-koeln-und-frankfurt-nov-2024/
CATEGORIES:Altenkirchen,Fachausbildung,Intensivausbildung,Intensivausbildung Westerwald,Köln,Kompaktausbildung,Ort,Retreat LeiterIn,Yogalehrerin
END:VEVENT
BEGIN:VEVENT
DTSTART;TZID=Europe/Berlin:20241102T140000
DTEND;TZID=Europe/Berlin:20241122T140000
DTSTAMP:20260424T173644
CREATED:20240807T120427Z
LAST-MODIFIED:20240807T120429Z
UID:2687-1730556000-1732284000@yogalehrer-ausbildung-koeln.de
SUMMARY:Kompakt Ausbildung YogalehrerIn 200 Retreat
DESCRIPTION:21 Tage Yogaausbildung als  Retreat   / Yoga /  Wald / Wasser/ Natur. Die tiefsten Erfahrungen und die beste Kompetenz als YogalehrerIn erhaltet ihr in den Retreat Yogalehrer Ausbildungen in unserem Seminarhaus am Weltende / 80 km von Köln \n\n\n\n\n\n\n\n \n\n\n\nMehr Infos über den Inhalt\n\n\n\nAnmelden
URL:https://yogalehrer-ausbildung-koeln.de/kurs/kompakt-ausbildung-yogalehrerin-200-retreat/
CATEGORIES:Altenkirchen,Intensivausbildung,Intensivausbildung Westerwald,Köln,Kompaktausbildung,Ort,Yogalehrerin,Zeiteinteilung
END:VEVENT
END:VCALENDAR