BEGIN:VCALENDAR
VERSION:2.0
PRODID:-//Institut für Yoga und Gesundheit - ECPv6.2.8.2//NONSGML v1.0//EN
CALSCALE:GREGORIAN
METHOD:PUBLISH
X-WR-CALNAME:Institut für Yoga und Gesundheit
X-ORIGINAL-URL:https://yogalehrer-ausbildung-koeln.de
X-WR-CALDESC:Veranstaltungen für Institut für Yoga und Gesundheit
REFRESH-INTERVAL;VALUE=DURATION:PT1H
X-Robots-Tag:noindex
X-PUBLISHED-TTL:PT1H
BEGIN:VTIMEZONE
TZID:Europe/Berlin
BEGIN:DAYLIGHT
TZOFFSETFROM:+0100
TZOFFSETTO:+0200
TZNAME:CEST
DTSTART:20240331T010000
END:DAYLIGHT
BEGIN:STANDARD
TZOFFSETFROM:+0200
TZOFFSETTO:+0100
TZNAME:CET
DTSTART:20241027T010000
END:STANDARD
BEGIN:DAYLIGHT
TZOFFSETFROM:+0100
TZOFFSETTO:+0200
TZNAME:CEST
DTSTART:20250330T010000
END:DAYLIGHT
BEGIN:STANDARD
TZOFFSETFROM:+0200
TZOFFSETTO:+0100
TZNAME:CET
DTSTART:20251026T010000
END:STANDARD
BEGIN:DAYLIGHT
TZOFFSETFROM:+0100
TZOFFSETTO:+0200
TZNAME:CEST
DTSTART:20260329T010000
END:DAYLIGHT
BEGIN:STANDARD
TZOFFSETFROM:+0200
TZOFFSETTO:+0100
TZNAME:CET
DTSTART:20261025T010000
END:STANDARD
END:VTIMEZONE
BEGIN:VEVENT
DTSTART;TZID=Europe/Berlin:20241109T090000
DTEND;TZID=Europe/Berlin:20250921T170000
DTSTAMP:20260420T135549
CREATED:20240822T184705Z
LAST-MODIFIED:20241117T185145Z
UID:2695-1731142800-1758474000@yogalehrer-ausbildung-koeln.de
SUMMARY:Yogaausbildung München / Dachau
DESCRIPTION:Yogalehrerin 200  / Yoga Alliance anerkannt / 10 Wochenenden  \n\n\n\n\n\n\n\n \n\n\n\nMehr Infos über den Inhalt\n\n\n\nAnmelden
URL:https://yogalehrer-ausbildung-koeln.de/kurs/yogaausbildung-muenchen-dachau/
CATEGORIES:München,Ort,Wochenendausbildung,Yogalehrerin
END:VEVENT
BEGIN:VEVENT
DTSTART;TZID=Europe/Berlin:20250308T090000
DTEND;TZID=Europe/Berlin:20260322T170000
DTSTAMP:20260420T135549
CREATED:20241125T201529Z
LAST-MODIFIED:20241125T201530Z
UID:2745-1741424400-1774198800@yogalehrer-ausbildung-koeln.de
SUMMARY:Yogalehrerin Advanced Teil II Köln am Wochenende
DESCRIPTION:10 Wochenenden in Köln // Voraussetzung für diesen Kurs ist YogalehrerIn 200 \n\n\n\n\n\n\n\n \n\n\n\nMehr Infos über den Inhalt\n\n\n\nAnmelden
URL:https://yogalehrer-ausbildung-koeln.de/kurs/yogalehrerin-advanced-teil-ii-koeln-am-wochenende/
CATEGORIES:Köln,Ort,Wochenendausbildung,Yogalehrerin
END:VEVENT
END:VCALENDAR